BEGIN:VCALENDAR
VERSION:2.0
PRODID:-//Ontario Place - ECPv6.15.17.1//NONSGML v1.0//EN
CALSCALE:GREGORIAN
METHOD:PUBLISH
X-ORIGINAL-URL:https://ontarioplace.com/fr/
X-WR-CALDESC:Évènements pour Ontario Place
REFRESH-INTERVAL;VALUE=DURATION:PT1H
X-Robots-Tag:noindex
X-PUBLISHED-TTL:PT1H
BEGIN:VTIMEZONE
TZID:America/Toronto
BEGIN:DAYLIGHT
TZOFFSETFROM:-0500
TZOFFSETTO:-0400
TZNAME:EDT
DTSTART:20240310T070000
END:DAYLIGHT
BEGIN:STANDARD
TZOFFSETFROM:-0400
TZOFFSETTO:-0500
TZNAME:EST
DTSTART:20241103T060000
END:STANDARD
BEGIN:DAYLIGHT
TZOFFSETFROM:-0500
TZOFFSETTO:-0400
TZNAME:EDT
DTSTART:20250309T070000
END:DAYLIGHT
BEGIN:STANDARD
TZOFFSETFROM:-0400
TZOFFSETTO:-0500
TZNAME:EST
DTSTART:20251102T060000
END:STANDARD
BEGIN:DAYLIGHT
TZOFFSETFROM:-0500
TZOFFSETTO:-0400
TZNAME:EDT
DTSTART:20260308T070000
END:DAYLIGHT
BEGIN:STANDARD
TZOFFSETFROM:-0400
TZOFFSETTO:-0500
TZNAME:EST
DTSTART:20261101T060000
END:STANDARD
END:VTIMEZONE
BEGIN:VEVENT
DTSTART;TZID=America/Toronto:20250713T100000
DTEND;TZID=America/Toronto:20250713T110000
DTSTAMP:20260423T082140
CREATED:20250603T182312Z
LAST-MODIFIED:20250603T182312Z
UID:10005191-1752400800-1752404400@ontarioplace.com
SUMMARY:Yoga au parc Trillium
DESCRIPTION:
URL:https://ontarioplace.com/fr/event/yoga-au-parc-trillium-11/
LOCATION:Parc Trillium\, 955 Lake Shore Boulevard West\, Toronto\, Ontario\, M6K 3B9\, Canada
CATEGORIES:Yoga
ATTACH;FMTTYPE=image/jpeg:https://ontarioplace.com/wp-content/uploads/2025/06/DSC03502-edited-1.jpg
GEO:43.6284288;-79.413533
X-APPLE-STRUCTURED-LOCATION;VALUE=URI;X-ADDRESS=Parc Trillium 955 Lake Shore Boulevard West Toronto Ontario M6K 3B9 Canada;X-APPLE-RADIUS=500;X-TITLE=955 Lake Shore Boulevard West:geo:-79.413533,43.6284288
END:VEVENT
BEGIN:VEVENT
DTSTART;TZID=America/Toronto:20250712T100000
DTEND;TZID=America/Toronto:20250712T110000
DTSTAMP:20260423T082140
CREATED:20250603T182143Z
LAST-MODIFIED:20250603T182143Z
UID:10005190-1752314400-1752318000@ontarioplace.com
SUMMARY:Yoga au parc Trillium
DESCRIPTION:
URL:https://ontarioplace.com/fr/event/yoga-au-parc-trillium-10/
LOCATION:Parc Trillium\, 955 Lake Shore Boulevard West\, Toronto\, Ontario\, M6K 3B9\, Canada
CATEGORIES:Yoga
ATTACH;FMTTYPE=image/jpeg:https://ontarioplace.com/wp-content/uploads/2025/06/DSC03502-edited-1.jpg
GEO:43.6284288;-79.413533
X-APPLE-STRUCTURED-LOCATION;VALUE=URI;X-ADDRESS=Parc Trillium 955 Lake Shore Boulevard West Toronto Ontario M6K 3B9 Canada;X-APPLE-RADIUS=500;X-TITLE=955 Lake Shore Boulevard West:geo:-79.413533,43.6284288
END:VEVENT
BEGIN:VEVENT
DTSTART;TZID=America/Toronto:20250706T150000
DTEND;TZID=America/Toronto:20250706T230000
DTSTAMP:20260423T082140
CREATED:20250703T165656Z
LAST-MODIFIED:20250703T165656Z
UID:10005213-1751814000-1751842800@ontarioplace.com
SUMMARY:Open Canvas Music and Arts Festival au FestivalEstival au parc Trillium
DESCRIPTION:Dansez\, admirez des œuvres d’art extraordinaires et tissez des liens avec de nouveaux amis au Open Canvas Music and Arts Festival\, le festival gratuit sans but lucratif de musique et d’arts de Toronto. \nCe festival transforme le secteur riverain en une galerie vivante de sons\, de couleurs et qui favorise la cohésion communautaire. Nous vous invitons à une fin de semaine de célébrations musicales\, artistiques et communautaires. Avec des spectacles d’artistes locaux et de renommée internationale\, des mets provenant de certains des meilleurs restaurants de la ville et une vue sur le paysage torontois\, ce festival est un incontournable.
URL:https://ontarioplace.com/fr/event/open-canvas-music-and-arts-festival-au-festivalestival-au-parc-trillium-2/
LOCATION:Parc Trillium\, 955 Lake Shore Boulevard West\, Toronto\, Ontario\, M6K 3B9\, Canada
ATTACH;FMTTYPE=image/jpeg:https://ontarioplace.com/wp-content/uploads/2025/07/Open-Canvas-17-3-1-scaled-e1751563056373.jpg
GEO:43.6284288;-79.413533
X-APPLE-STRUCTURED-LOCATION;VALUE=URI;X-ADDRESS=Parc Trillium 955 Lake Shore Boulevard West Toronto Ontario M6K 3B9 Canada;X-APPLE-RADIUS=500;X-TITLE=955 Lake Shore Boulevard West:geo:-79.413533,43.6284288
END:VEVENT
BEGIN:VEVENT
DTSTART;TZID=America/Toronto:20250706T100000
DTEND;TZID=America/Toronto:20250706T110000
DTSTAMP:20260423T082140
CREATED:20250603T182021Z
LAST-MODIFIED:20250603T182021Z
UID:10005189-1751796000-1751799600@ontarioplace.com
SUMMARY:
DESCRIPTION:
URL:https://ontarioplace.com/fr/event/53712/
LOCATION:Parc Trillium\, 955 Lake Shore Boulevard West\, Toronto\, Ontario\, M6K 3B9\, Canada
CATEGORIES:Yoga
ATTACH;FMTTYPE=image/jpeg:https://ontarioplace.com/wp-content/uploads/2025/06/DSC03502-edited-1.jpg
GEO:43.6284288;-79.413533
X-APPLE-STRUCTURED-LOCATION;VALUE=URI;X-ADDRESS=Parc Trillium 955 Lake Shore Boulevard West Toronto Ontario M6K 3B9 Canada;X-APPLE-RADIUS=500;X-TITLE=955 Lake Shore Boulevard West:geo:-79.413533,43.6284288
END:VEVENT
BEGIN:VEVENT
DTSTART;TZID=America/Toronto:20250705T150000
DTEND;TZID=America/Toronto:20250705T230000
DTSTAMP:20260423T082140
CREATED:20250703T165026Z
LAST-MODIFIED:20250703T165026Z
UID:10005212-1751727600-1751756400@ontarioplace.com
SUMMARY:Open Canvas Music and Arts Festival au FestivalEstival au parc Trillium
DESCRIPTION:Dansez\, admirez des œuvres d’art extraordinaires et tissez des liens avec de nouveaux amis au Open Canvas Music and Arts Festival\, le festival gratuit sans but lucratif de musique et d’arts de Toronto. \nCe festival transforme le secteur riverain en une galerie vivante de sons\, de couleurs et qui favorise la cohésion communautaire. Nous vous invitons à une fin de semaine de célébrations musicales\, artistiques et communautaires. Avec des spectacles d’artistes locaux et de renommée internationale\, des mets provenant de certains des meilleurs restaurants de la ville et une vue sur le paysage torontois\, ce festival est un incontournable.
URL:https://ontarioplace.com/fr/event/open-canvas-music-and-arts-festival-au-festivalestival-au-parc-trillium/
LOCATION:Parc Trillium\, 955 Lake Shore Boulevard West\, Toronto\, Ontario\, M6K 3B9\, Canada
ATTACH;FMTTYPE=image/jpeg:https://ontarioplace.com/wp-content/uploads/2025/07/Open-Canvas-17-3-1-scaled-e1751563056373.jpg
GEO:43.6284288;-79.413533
X-APPLE-STRUCTURED-LOCATION;VALUE=URI;X-ADDRESS=Parc Trillium 955 Lake Shore Boulevard West Toronto Ontario M6K 3B9 Canada;X-APPLE-RADIUS=500;X-TITLE=955 Lake Shore Boulevard West:geo:-79.413533,43.6284288
END:VEVENT
BEGIN:VEVENT
DTSTART;TZID=America/Toronto:20250705T100000
DTEND;TZID=America/Toronto:20250705T110000
DTSTAMP:20260423T082140
CREATED:20250603T181418Z
LAST-MODIFIED:20250603T181418Z
UID:10005188-1751709600-1751713200@ontarioplace.com
SUMMARY:Yoga au parc Trillium
DESCRIPTION:
URL:https://ontarioplace.com/fr/event/yoga-au-parc-trillium-9/
LOCATION:Parc Trillium\, 955 Lake Shore Boulevard West\, Toronto\, Ontario\, M6K 3B9\, Canada
CATEGORIES:Yoga
ATTACH;FMTTYPE=image/jpeg:https://ontarioplace.com/wp-content/uploads/2025/06/DSC03502-edited-1.jpg
GEO:43.6284288;-79.413533
X-APPLE-STRUCTURED-LOCATION;VALUE=URI;X-ADDRESS=Parc Trillium 955 Lake Shore Boulevard West Toronto Ontario M6K 3B9 Canada;X-APPLE-RADIUS=500;X-TITLE=955 Lake Shore Boulevard West:geo:-79.413533,43.6284288
END:VEVENT
BEGIN:VEVENT
DTSTART;TZID=America/Toronto:20250629T100000
DTEND;TZID=America/Toronto:20250629T110000
DTSTAMP:20260423T082140
CREATED:20250603T181015Z
LAST-MODIFIED:20250603T181015Z
UID:10005187-1751191200-1751194800@ontarioplace.com
SUMMARY:Yoga au parc Trillium
DESCRIPTION:
URL:https://ontarioplace.com/fr/event/yoga-au-parc-trillium-8/
LOCATION:Parc Trillium\, 955 Lake Shore Boulevard West\, Toronto\, Ontario\, M6K 3B9\, Canada
CATEGORIES:Yoga
ATTACH;FMTTYPE=image/jpeg:https://ontarioplace.com/wp-content/uploads/2025/06/DSC03502-edited-1.jpg
GEO:43.6284288;-79.413533
X-APPLE-STRUCTURED-LOCATION;VALUE=URI;X-ADDRESS=Parc Trillium 955 Lake Shore Boulevard West Toronto Ontario M6K 3B9 Canada;X-APPLE-RADIUS=500;X-TITLE=955 Lake Shore Boulevard West:geo:-79.413533,43.6284288
END:VEVENT
BEGIN:VEVENT
DTSTART;TZID=America/Toronto:20250628T100000
DTEND;TZID=America/Toronto:20250628T110000
DTSTAMP:20260423T082140
CREATED:20250603T175600Z
LAST-MODIFIED:20250603T175600Z
UID:10005186-1751104800-1751108400@ontarioplace.com
SUMMARY:Yoga au parc Trillium
DESCRIPTION:
URL:https://ontarioplace.com/fr/event/yoga-au-parc-trillium-7/
LOCATION:Parc Trillium\, 955 Lake Shore Boulevard West\, Toronto\, Ontario\, M6K 3B9\, Canada
CATEGORIES:Yoga
ATTACH;FMTTYPE=image/jpeg:https://ontarioplace.com/wp-content/uploads/2025/06/DSC03502-edited-1.jpg
GEO:43.6284288;-79.413533
X-APPLE-STRUCTURED-LOCATION;VALUE=URI;X-ADDRESS=Parc Trillium 955 Lake Shore Boulevard West Toronto Ontario M6K 3B9 Canada;X-APPLE-RADIUS=500;X-TITLE=955 Lake Shore Boulevard West:geo:-79.413533,43.6284288
END:VEVENT
BEGIN:VEVENT
DTSTART;TZID=America/Toronto:20250622T100000
DTEND;TZID=America/Toronto:20250622T110000
DTSTAMP:20260423T082140
CREATED:20250603T175220Z
LAST-MODIFIED:20250603T175220Z
UID:10005185-1750586400-1750590000@ontarioplace.com
SUMMARY:Yoga au parc Trillium
DESCRIPTION:
URL:https://ontarioplace.com/fr/event/yoga-au-parc-trillium-6/
LOCATION:Parc Trillium\, 955 Lake Shore Boulevard West\, Toronto\, Ontario\, M6K 3B9\, Canada
CATEGORIES:Yoga
ATTACH;FMTTYPE=image/jpeg:https://ontarioplace.com/wp-content/uploads/2025/06/DSC03502-edited-1.jpg
GEO:43.6284288;-79.413533
X-APPLE-STRUCTURED-LOCATION;VALUE=URI;X-ADDRESS=Parc Trillium 955 Lake Shore Boulevard West Toronto Ontario M6K 3B9 Canada;X-APPLE-RADIUS=500;X-TITLE=955 Lake Shore Boulevard West:geo:-79.413533,43.6284288
END:VEVENT
BEGIN:VEVENT
DTSTART;TZID=America/Toronto:20250621T100000
DTEND;TZID=America/Toronto:20250621T110000
DTSTAMP:20260423T082140
CREATED:20250603T175041Z
LAST-MODIFIED:20250603T175041Z
UID:10005184-1750500000-1750503600@ontarioplace.com
SUMMARY:Yoga au parc Trillium
DESCRIPTION:
URL:https://ontarioplace.com/fr/event/yoga-au-parc-trillium-5/
LOCATION:Parc Trillium\, 955 Lake Shore Boulevard West\, Toronto\, Ontario\, M6K 3B9\, Canada
CATEGORIES:Yoga
ATTACH;FMTTYPE=image/jpeg:https://ontarioplace.com/wp-content/uploads/2025/06/DSC03502-edited-1.jpg
GEO:43.6284288;-79.413533
X-APPLE-STRUCTURED-LOCATION;VALUE=URI;X-ADDRESS=Parc Trillium 955 Lake Shore Boulevard West Toronto Ontario M6K 3B9 Canada;X-APPLE-RADIUS=500;X-TITLE=955 Lake Shore Boulevard West:geo:-79.413533,43.6284288
END:VEVENT
BEGIN:VEVENT
DTSTART;TZID=America/Toronto:20250614T100000
DTEND;TZID=America/Toronto:20250614T110000
DTSTAMP:20260423T082140
CREATED:20250603T174707Z
LAST-MODIFIED:20250603T174707Z
UID:10005182-1749895200-1749898800@ontarioplace.com
SUMMARY:Yoga au parc Trillium
DESCRIPTION:
URL:https://ontarioplace.com/fr/event/yoga-au-parc-trillium-3/
LOCATION:Parc Trillium\, 955 Lake Shore Boulevard West\, Toronto\, Ontario\, M6K 3B9\, Canada
CATEGORIES:Yoga
ATTACH;FMTTYPE=image/jpeg:https://ontarioplace.com/wp-content/uploads/2025/06/DSC03502-edited-1.jpg
GEO:43.6284288;-79.413533
X-APPLE-STRUCTURED-LOCATION;VALUE=URI;X-ADDRESS=Parc Trillium 955 Lake Shore Boulevard West Toronto Ontario M6K 3B9 Canada;X-APPLE-RADIUS=500;X-TITLE=955 Lake Shore Boulevard West:geo:-79.413533,43.6284288
END:VEVENT
BEGIN:VEVENT
DTSTART;TZID=America/Toronto:20250608T100000
DTEND;TZID=America/Toronto:20250608T110000
DTSTAMP:20260423T082140
CREATED:20250603T174542Z
LAST-MODIFIED:20250603T174542Z
UID:10005181-1749376800-1749380400@ontarioplace.com
SUMMARY:Yoga au parc Trillium
DESCRIPTION:
URL:https://ontarioplace.com/fr/event/yoga-au-parc-trillium-2/
LOCATION:Parc Trillium\, 955 Lake Shore Boulevard West\, Toronto\, Ontario\, M6K 3B9\, Canada
CATEGORIES:Yoga
ATTACH;FMTTYPE=image/jpeg:https://ontarioplace.com/wp-content/uploads/2025/06/DSC03502-edited-1.jpg
GEO:43.6284288;-79.413533
X-APPLE-STRUCTURED-LOCATION;VALUE=URI;X-ADDRESS=Parc Trillium 955 Lake Shore Boulevard West Toronto Ontario M6K 3B9 Canada;X-APPLE-RADIUS=500;X-TITLE=955 Lake Shore Boulevard West:geo:-79.413533,43.6284288
END:VEVENT
BEGIN:VEVENT
DTSTART;TZID=America/Toronto:20250607T100000
DTEND;TZID=America/Toronto:20250607T110000
DTSTAMP:20260423T082140
CREATED:20250603T174411Z
LAST-MODIFIED:20250603T174411Z
UID:10005180-1749290400-1749294000@ontarioplace.com
SUMMARY:Yoga au parc Trillium
DESCRIPTION:
URL:https://ontarioplace.com/fr/event/yoga-au-parc-trillium/
LOCATION:Parc Trillium\, 955 Lake Shore Boulevard West\, Toronto\, Ontario\, M6K 3B9\, Canada
CATEGORIES:Yoga
ATTACH;FMTTYPE=image/jpeg:https://ontarioplace.com/wp-content/uploads/2025/06/DSC03502-edited-1.jpg
GEO:43.6284288;-79.413533
X-APPLE-STRUCTURED-LOCATION;VALUE=URI;X-ADDRESS=Parc Trillium 955 Lake Shore Boulevard West Toronto Ontario M6K 3B9 Canada;X-APPLE-RADIUS=500;X-TITLE=955 Lake Shore Boulevard West:geo:-79.413533,43.6284288
END:VEVENT
END:VCALENDAR