BEGIN:VCALENDAR
VERSION:2.0
PRODID:-//Ontario Place - ECPv6.15.17.1//NONSGML v1.0//EN
CALSCALE:GREGORIAN
METHOD:PUBLISH
X-WR-CALNAME:Ontario Place
X-ORIGINAL-URL:https://ontarioplace.com/fr/
X-WR-CALDESC:Évènements pour Ontario Place
REFRESH-INTERVAL;VALUE=DURATION:PT1H
X-Robots-Tag:noindex
X-PUBLISHED-TTL:PT1H
BEGIN:VTIMEZONE
TZID:America/Toronto
BEGIN:DAYLIGHT
TZOFFSETFROM:-0500
TZOFFSETTO:-0400
TZNAME:EDT
DTSTART:20240310T070000
END:DAYLIGHT
BEGIN:STANDARD
TZOFFSETFROM:-0400
TZOFFSETTO:-0500
TZNAME:EST
DTSTART:20241103T060000
END:STANDARD
BEGIN:DAYLIGHT
TZOFFSETFROM:-0500
TZOFFSETTO:-0400
TZNAME:EDT
DTSTART:20250309T070000
END:DAYLIGHT
BEGIN:STANDARD
TZOFFSETFROM:-0400
TZOFFSETTO:-0500
TZNAME:EST
DTSTART:20251102T060000
END:STANDARD
BEGIN:DAYLIGHT
TZOFFSETFROM:-0500
TZOFFSETTO:-0400
TZNAME:EDT
DTSTART:20260308T070000
END:DAYLIGHT
BEGIN:STANDARD
TZOFFSETFROM:-0400
TZOFFSETTO:-0500
TZNAME:EST
DTSTART:20261101T060000
END:STANDARD
END:VTIMEZONE
BEGIN:VEVENT
DTSTART;TZID=America/Toronto:20250828T190000
DTEND;TZID=America/Toronto:20250828T230000
DTSTAMP:20260421T133306
CREATED:20250521T152420Z
LAST-MODIFIED:20250521T152420Z
UID:10005117-1756407600-1756422000@ontarioplace.com
SUMMARY:The Crooner & The Cowboy: Leon Bridges with Charley Crockett
DESCRIPTION:
URL:https://ontarioplace.com/fr/event/the-crooner-the-cowboy-leon-bridges-with-charley-crockett/
LOCATION:Scène Budweiser\, 955 Lake Shore Blvd W\, Toronto\, Ontario\, M6K 3L3\, Canada
ATTACH;FMTTYPE=image/jpeg:https://ontarioplace.com/wp-content/uploads/2025/05/The-Crooner-The-Cowboy.jpg
GEO:43.6292459;-79.4152393
X-APPLE-STRUCTURED-LOCATION;VALUE=URI;X-ADDRESS=Scène Budweiser 955 Lake Shore Blvd W Toronto Ontario M6K 3L3 Canada;X-APPLE-RADIUS=500;X-TITLE=955 Lake Shore Blvd W:geo:-79.4152393,43.6292459
END:VEVENT
BEGIN:VEVENT
DTSTART;TZID=America/Toronto:20250823T184500
DTEND;TZID=America/Toronto:20250823T230000
DTSTAMP:20260421T133306
CREATED:20250521T151339Z
LAST-MODIFIED:20250521T151339Z
UID:10005110-1755974700-1755990000@ontarioplace.com
SUMMARY:Blue Rodeo with special guests Allison Russell and Aysanabee
DESCRIPTION:
URL:https://ontarioplace.com/fr/event/blue-rodeo-with-special-guests-allison-russell-and-aysanabee/
LOCATION:Scène Budweiser\, 955 Lake Shore Blvd W\, Toronto\, Ontario\, M6K 3L3\, Canada
ATTACH;FMTTYPE=image/jpeg:https://ontarioplace.com/wp-content/uploads/2025/05/Budweiser-2025-Blue-Rodeo.jpg
GEO:43.6292459;-79.4152393
X-APPLE-STRUCTURED-LOCATION;VALUE=URI;X-ADDRESS=Scène Budweiser 955 Lake Shore Blvd W Toronto Ontario M6K 3L3 Canada;X-APPLE-RADIUS=500;X-TITLE=955 Lake Shore Blvd W:geo:-79.4152393,43.6292459
END:VEVENT
BEGIN:VEVENT
DTSTART;TZID=America/Toronto:20250821T180000
DTEND;TZID=America/Toronto:20250821T230000
DTSTAMP:20260421T133306
CREATED:20250521T151835Z
LAST-MODIFIED:20250521T151835Z
UID:10005112-1755799200-1755817200@ontarioplace.com
SUMMARY:KIDZ BOP LIVE Certified BOP Tour
DESCRIPTION:
URL:https://ontarioplace.com/fr/event/kidz-bop-live-certified-bop-tour/
LOCATION:Scène Budweiser\, 955 Lake Shore Blvd W\, Toronto\, Ontario\, M6K 3L3\, Canada
ATTACH;FMTTYPE=image/jpeg:https://ontarioplace.com/wp-content/uploads/2025/05/KIDZ-BOP-1.jpg
GEO:43.6292459;-79.4152393
X-APPLE-STRUCTURED-LOCATION;VALUE=URI;X-ADDRESS=Scène Budweiser 955 Lake Shore Blvd W Toronto Ontario M6K 3L3 Canada;X-APPLE-RADIUS=500;X-TITLE=955 Lake Shore Blvd W:geo:-79.4152393,43.6292459
END:VEVENT
BEGIN:VEVENT
DTSTART;TZID=America/Toronto:20250819T193000
DTEND;TZID=America/Toronto:20250819T230000
DTSTAMP:20260421T133306
CREATED:20250521T150536Z
LAST-MODIFIED:20250521T150536Z
UID:10005107-1755631800-1755644400@ontarioplace.com
SUMMARY:neil young and the chrome hearts - Love Earth
DESCRIPTION:
URL:https://ontarioplace.com/fr/event/neil-young-and-the-chrome-hearts-love-earth-2/
LOCATION:Scène Budweiser\, 955 Lake Shore Blvd W\, Toronto\, Ontario\, M6K 3L3\, Canada
ATTACH;FMTTYPE=image/jpeg:https://ontarioplace.com/wp-content/uploads/2025/05/Budweiser-2025-Neil-young-and-the-chrome-hearts.jpg
GEO:43.6292459;-79.4152393
X-APPLE-STRUCTURED-LOCATION;VALUE=URI;X-ADDRESS=Scène Budweiser 955 Lake Shore Blvd W Toronto Ontario M6K 3L3 Canada;X-APPLE-RADIUS=500;X-TITLE=955 Lake Shore Blvd W:geo:-79.4152393,43.6292459
END:VEVENT
BEGIN:VEVENT
DTSTART;TZID=America/Toronto:20250817T193000
DTEND;TZID=America/Toronto:20250817T230000
DTSTAMP:20260421T133306
CREATED:20250521T150410Z
LAST-MODIFIED:20250521T150410Z
UID:10005106-1755459000-1755471600@ontarioplace.com
SUMMARY:neil young and the chrome hearts - Love Earth
DESCRIPTION:
URL:https://ontarioplace.com/fr/event/neil-young-and-the-chrome-hearts-love-earth/
LOCATION:Scène Budweiser\, 955 Lake Shore Blvd W\, Toronto\, Ontario\, M6K 3L3\, Canada
ATTACH;FMTTYPE=image/jpeg:https://ontarioplace.com/wp-content/uploads/2025/05/Budweiser-2025-Neil-young-and-the-chrome-hearts.jpg
GEO:43.6292459;-79.4152393
X-APPLE-STRUCTURED-LOCATION;VALUE=URI;X-ADDRESS=Scène Budweiser 955 Lake Shore Blvd W Toronto Ontario M6K 3L3 Canada;X-APPLE-RADIUS=500;X-TITLE=955 Lake Shore Blvd W:geo:-79.4152393,43.6292459
END:VEVENT
BEGIN:VEVENT
DTSTART;TZID=America/Toronto:20250814T190000
DTEND;TZID=America/Toronto:20250814T230000
DTSTAMP:20260421T133306
CREATED:20250521T144407Z
LAST-MODIFIED:20250521T144407Z
UID:10005102-1755198000-1755212400@ontarioplace.com
SUMMARY:Little Big Town: Summer Tour 2025
DESCRIPTION:
URL:https://ontarioplace.com/fr/event/little-big-town-summer-tour-2025/
LOCATION:Scène Budweiser\, 955 Lake Shore Blvd W\, Toronto\, Ontario\, M6K 3L3\, Canada
ATTACH;FMTTYPE=image/jpeg:https://ontarioplace.com/wp-content/uploads/2025/05/Budweiser-2025-Little-Big-Town.jpg
GEO:43.6292459;-79.4152393
X-APPLE-STRUCTURED-LOCATION;VALUE=URI;X-ADDRESS=Scène Budweiser 955 Lake Shore Blvd W Toronto Ontario M6K 3L3 Canada;X-APPLE-RADIUS=500;X-TITLE=955 Lake Shore Blvd W:geo:-79.4152393,43.6292459
END:VEVENT
BEGIN:VEVENT
DTSTART;TZID=America/Toronto:20250813T184500
DTEND;TZID=America/Toronto:20250813T230000
DTSTAMP:20260421T133306
CREATED:20250521T145824Z
LAST-MODIFIED:20250521T145824Z
UID:10005103-1755110700-1755126000@ontarioplace.com
SUMMARY:Styx & Kevin Cronin + Don Felder The Brotherhood of Rock Tour
DESCRIPTION:
URL:https://ontarioplace.com/fr/event/styx-kevin-cronin-don-felder-the-brotherhood-of-rock-tour/
LOCATION:Scène Budweiser\, 955 Lake Shore Blvd W\, Toronto\, Ontario\, M6K 3L3\, Canada
ATTACH;FMTTYPE=image/jpeg:https://ontarioplace.com/wp-content/uploads/2025/05/Styx-Kevin-Cronin.jpg
GEO:43.6292459;-79.4152393
X-APPLE-STRUCTURED-LOCATION;VALUE=URI;X-ADDRESS=Scène Budweiser 955 Lake Shore Blvd W Toronto Ontario M6K 3L3 Canada;X-APPLE-RADIUS=500;X-TITLE=955 Lake Shore Blvd W:geo:-79.4152393,43.6292459
END:VEVENT
BEGIN:VEVENT
DTSTART;TZID=America/Toronto:20250812T182000
DTEND;TZID=America/Toronto:20250812T230000
DTSTAMP:20260421T133306
CREATED:20250521T143728Z
LAST-MODIFIED:20250521T143728Z
UID:10005099-1755022800-1755039600@ontarioplace.com
SUMMARY:AJR: Somewhere in the Sky
DESCRIPTION:
URL:https://ontarioplace.com/fr/event/ajr-somewhere-in-the-sky/
LOCATION:Scène Budweiser\, 955 Lake Shore Blvd W\, Toronto\, Ontario\, M6K 3L3\, Canada
ATTACH;FMTTYPE=image/jpeg:https://ontarioplace.com/wp-content/uploads/2025/05/Budweiser-2025-AJR.jpg
GEO:43.6292459;-79.4152393
X-APPLE-STRUCTURED-LOCATION;VALUE=URI;X-ADDRESS=Scène Budweiser 955 Lake Shore Blvd W Toronto Ontario M6K 3L3 Canada;X-APPLE-RADIUS=500;X-TITLE=955 Lake Shore Blvd W:geo:-79.4152393,43.6292459
END:VEVENT
BEGIN:VEVENT
DTSTART;TZID=America/Toronto:20250810T193000
DTEND;TZID=America/Toronto:20250810T230000
DTSTAMP:20260421T133306
CREATED:20250521T142558Z
LAST-MODIFIED:20250521T142558Z
UID:10005095-1754854200-1754866800@ontarioplace.com
SUMMARY:GOO GOO DOLLS with DASHBOARD CONFESSIONAL - Summer Anthem Tour 2025
DESCRIPTION:
URL:https://ontarioplace.com/fr/event/goo-goo-dolls-with-dashboard-confessional-summer-anthem-tour-2025/
LOCATION:Scène Budweiser\, 955 Lake Shore Blvd W\, Toronto\, Ontario\, M6K 3L3\, Canada
ATTACH;FMTTYPE=image/jpeg:https://ontarioplace.com/wp-content/uploads/2025/05/Budweiser-2025-Goo-Goo-Dolls-with-Dashboard-Confessional.jpg
GEO:43.6292459;-79.4152393
X-APPLE-STRUCTURED-LOCATION;VALUE=URI;X-ADDRESS=Scène Budweiser 955 Lake Shore Blvd W Toronto Ontario M6K 3L3 Canada;X-APPLE-RADIUS=500;X-TITLE=955 Lake Shore Blvd W:geo:-79.4152393,43.6292459
END:VEVENT
BEGIN:VEVENT
DTSTART;TZID=America/Toronto:20250807T183000
DTEND;TZID=America/Toronto:20250807T230000
DTSTAMP:20260421T133306
CREATED:20250521T143329Z
LAST-MODIFIED:20250521T143329Z
UID:10005097-1754591400-1754607600@ontarioplace.com
SUMMARY:Dwayne Gretzky and Choir! Choir! Choir!
DESCRIPTION:
URL:https://ontarioplace.com/fr/event/dwayne-gretzky-and-choir-choir-choir/
LOCATION:Scène Budweiser\, 955 Lake Shore Blvd W\, Toronto\, Ontario\, M6K 3L3\, Canada
ATTACH;FMTTYPE=image/jpeg:https://ontarioplace.com/wp-content/uploads/2025/05/Dwayne-Gretzky.jpg
GEO:43.6292459;-79.4152393
X-APPLE-STRUCTURED-LOCATION;VALUE=URI;X-ADDRESS=Scène Budweiser 955 Lake Shore Blvd W Toronto Ontario M6K 3L3 Canada;X-APPLE-RADIUS=500;X-TITLE=955 Lake Shore Blvd W:geo:-79.4152393,43.6292459
END:VEVENT
BEGIN:VEVENT
DTSTART;TZID=America/Toronto:20250730T190000
DTEND;TZID=America/Toronto:20250730T230000
DTSTAMP:20260421T133306
CREATED:20250521T141549Z
LAST-MODIFIED:20250521T141549Z
UID:10005091-1753902000-1753916400@ontarioplace.com
SUMMARY:RÜFÜS DU SOL Inhale / Exhale World Tour 2025
DESCRIPTION:
URL:https://ontarioplace.com/fr/event/rufus-du-sol-inhale-exhale-world-tour-2025-2/
LOCATION:Scène Budweiser\, 955 Lake Shore Blvd W\, Toronto\, Ontario\, M6K 3L3\, Canada
ATTACH;FMTTYPE=image/jpeg:https://ontarioplace.com/wp-content/uploads/2025/05/RUFUS-DU-SOL.jpg
GEO:43.6292459;-79.4152393
X-APPLE-STRUCTURED-LOCATION;VALUE=URI;X-ADDRESS=Scène Budweiser 955 Lake Shore Blvd W Toronto Ontario M6K 3L3 Canada;X-APPLE-RADIUS=500;X-TITLE=955 Lake Shore Blvd W:geo:-79.4152393,43.6292459
END:VEVENT
BEGIN:VEVENT
DTSTART;TZID=America/Toronto:20250729T190000
DTEND;TZID=America/Toronto:20250729T230000
DTSTAMP:20260421T133306
CREATED:20250521T141417Z
LAST-MODIFIED:20250521T141417Z
UID:10005090-1753815600-1753830000@ontarioplace.com
SUMMARY:RÜFÜS DU SOL Inhale / Exhale World Tour 2025
DESCRIPTION:
URL:https://ontarioplace.com/fr/event/rufus-du-sol-inhale-exhale-world-tour-2025/
LOCATION:Scène Budweiser\, 955 Lake Shore Blvd W\, Toronto\, Ontario\, M6K 3L3\, Canada
ATTACH;FMTTYPE=image/jpeg:https://ontarioplace.com/wp-content/uploads/2025/05/RUFUS-DU-SOL.jpg
GEO:43.6292459;-79.4152393
X-APPLE-STRUCTURED-LOCATION;VALUE=URI;X-ADDRESS=Scène Budweiser 955 Lake Shore Blvd W Toronto Ontario M6K 3L3 Canada;X-APPLE-RADIUS=500;X-TITLE=955 Lake Shore Blvd W:geo:-79.4152393,43.6292459
END:VEVENT
BEGIN:VEVENT
DTSTART;TZID=America/Toronto:20250727T193000
DTEND;TZID=America/Toronto:20250727T230000
DTSTAMP:20260421T133306
CREATED:20250521T140331Z
LAST-MODIFIED:20250521T140331Z
UID:10005087-1753644600-1753657200@ontarioplace.com
SUMMARY:Cyndi Lauper: Girls Just Wanna Have Fun Farewell Tour
DESCRIPTION:
URL:https://ontarioplace.com/fr/event/cyndi-lauper-girls-just-wanna-have-fun-farewell-tour/
LOCATION:Scène Budweiser\, 955 Lake Shore Blvd W\, Toronto\, Ontario\, M6K 3L3\, Canada
ATTACH;FMTTYPE=image/jpeg:https://ontarioplace.com/wp-content/uploads/2025/05/Budweiser-2025-cyndi-Lauper.jpg
GEO:43.6292459;-79.4152393
X-APPLE-STRUCTURED-LOCATION;VALUE=URI;X-ADDRESS=Scène Budweiser 955 Lake Shore Blvd W Toronto Ontario M6K 3L3 Canada;X-APPLE-RADIUS=500;X-TITLE=955 Lake Shore Blvd W:geo:-79.4152393,43.6292459
END:VEVENT
BEGIN:VEVENT
DTSTART;TZID=America/Toronto:20250726T200000
DTEND;TZID=America/Toronto:20250726T230000
DTSTAMP:20260421T133306
CREATED:20250521T135744Z
LAST-MODIFIED:20250521T135744Z
UID:10005085-1753560000-1753570800@ontarioplace.com
SUMMARY:Gracie Abrams: The Secret Of Us Deluxe Tour with Role Model
DESCRIPTION:
URL:https://ontarioplace.com/fr/event/gracie-abrams-the-secret-of-us-deluxe-tour-with-role-model/
LOCATION:Scène Budweiser\, 955 Lake Shore Blvd W\, Toronto\, Ontario\, M6K 3L3\, Canada
ATTACH;FMTTYPE=image/jpeg:https://ontarioplace.com/wp-content/uploads/2025/05/Gracie-Abrams.jpg
GEO:43.6292459;-79.4152393
X-APPLE-STRUCTURED-LOCATION;VALUE=URI;X-ADDRESS=Scène Budweiser 955 Lake Shore Blvd W Toronto Ontario M6K 3L3 Canada;X-APPLE-RADIUS=500;X-TITLE=955 Lake Shore Blvd W:geo:-79.4152393,43.6292459
END:VEVENT
BEGIN:VEVENT
DTSTART;TZID=America/Toronto:20250725T190000
DTEND;TZID=America/Toronto:20250725T230000
DTSTAMP:20260421T133306
CREATED:20250520T173003Z
LAST-MODIFIED:20250520T173003Z
UID:10005083-1753470000-1753484400@ontarioplace.com
SUMMARY:Barenaked Ladies: Last Summer On Earth Tour 2025
DESCRIPTION:
URL:https://ontarioplace.com/fr/event/barenaked-ladies-last-summer-on-earth-tour-2025/
LOCATION:Scène Budweiser\, 955 Lake Shore Blvd W\, Toronto\, Ontario\, M6K 3L3\, Canada
ATTACH;FMTTYPE=image/jpeg:https://ontarioplace.com/wp-content/uploads/2025/05/Barenaked-ladies.jpg
GEO:43.6292459;-79.4152393
X-APPLE-STRUCTURED-LOCATION;VALUE=URI;X-ADDRESS=Scène Budweiser 955 Lake Shore Blvd W Toronto Ontario M6K 3L3 Canada;X-APPLE-RADIUS=500;X-TITLE=955 Lake Shore Blvd W:geo:-79.4152393,43.6292459
END:VEVENT
BEGIN:VEVENT
DTSTART;TZID=America/Toronto:20250724T180000
DTEND;TZID=America/Toronto:20250724T230000
DTSTAMP:20260421T133306
CREATED:20250520T154149Z
LAST-MODIFIED:20250520T154149Z
UID:10005081-1753380000-1753398000@ontarioplace.com
SUMMARY:Our Lady Peace: 30th Anniversary Tour
DESCRIPTION:
URL:https://ontarioplace.com/fr/event/our-lady-peace-30th-anniversary-tour/
LOCATION:Scène Budweiser\, 955 Lake Shore Blvd W\, Toronto\, Ontario\, M6K 3L3\, Canada
ATTACH;FMTTYPE=image/jpeg:https://ontarioplace.com/wp-content/uploads/2025/05/Budweiser-2025-Our-Lady-Peace.jpg
GEO:43.6292459;-79.4152393
X-APPLE-STRUCTURED-LOCATION;VALUE=URI;X-ADDRESS=Scène Budweiser 955 Lake Shore Blvd W Toronto Ontario M6K 3L3 Canada;X-APPLE-RADIUS=500;X-TITLE=955 Lake Shore Blvd W:geo:-79.4152393,43.6292459
END:VEVENT
BEGIN:VEVENT
DTSTART;TZID=America/Toronto:20250723T190000
DTEND;TZID=America/Toronto:20250723T230000
DTSTAMP:20260421T133306
CREATED:20250520T153822Z
LAST-MODIFIED:20250520T153822Z
UID:10005079-1753297200-1753311600@ontarioplace.com
SUMMARY:The Offspring: SUPERCHARGED Worldwide in '25
DESCRIPTION:
URL:https://ontarioplace.com/fr/event/the-offspring-supercharged-worldwide-in-25/
LOCATION:Scène Budweiser\, 955 Lake Shore Blvd W\, Toronto\, Ontario\, M6K 3L3\, Canada
ATTACH;FMTTYPE=image/jpeg:https://ontarioplace.com/wp-content/uploads/2025/05/OFFSPRING.jpg
GEO:43.6292459;-79.4152393
X-APPLE-STRUCTURED-LOCATION;VALUE=URI;X-ADDRESS=Scène Budweiser 955 Lake Shore Blvd W Toronto Ontario M6K 3L3 Canada;X-APPLE-RADIUS=500;X-TITLE=955 Lake Shore Blvd W:geo:-79.4152393,43.6292459
END:VEVENT
BEGIN:VEVENT
DTSTART;TZID=America/Toronto:20250722T193000
DTEND;TZID=America/Toronto:20250722T230000
DTSTAMP:20260421T133306
CREATED:20250520T152514Z
LAST-MODIFIED:20250520T152514Z
UID:10005075-1753212600-1753225200@ontarioplace.com
SUMMARY:Rod Stewart: One Last Time
DESCRIPTION:
URL:https://ontarioplace.com/fr/event/rod-stewart-one-last-time/
LOCATION:Scène Budweiser\, 955 Lake Shore Blvd W\, Toronto\, Ontario\, M6K 3L3\, Canada
ATTACH;FMTTYPE=image/jpeg:https://ontarioplace.com/wp-content/uploads/2025/05/Rod-Stewart.jpg
GEO:43.6292459;-79.4152393
X-APPLE-STRUCTURED-LOCATION;VALUE=URI;X-ADDRESS=Scène Budweiser 955 Lake Shore Blvd W Toronto Ontario M6K 3L3 Canada;X-APPLE-RADIUS=500;X-TITLE=955 Lake Shore Blvd W:geo:-79.4152393,43.6292459
END:VEVENT
BEGIN:VEVENT
DTSTART;TZID=America/Toronto:20250721T190000
DTEND;TZID=America/Toronto:20250721T230000
DTSTAMP:20260421T133306
CREATED:20250520T153406Z
LAST-MODIFIED:20250520T153406Z
UID:10005078-1753124400-1753138800@ontarioplace.com
SUMMARY:Kesha and Scissor Sisters: The Tits Out Tour
DESCRIPTION:
URL:https://ontarioplace.com/fr/event/kesha-and-scissor-sisters-the-tits-out-tour/
LOCATION:Scène Budweiser\, 955 Lake Shore Blvd W\, Toronto\, Ontario\, M6K 3L3\, Canada
ATTACH;FMTTYPE=image/jpeg:https://ontarioplace.com/wp-content/uploads/2025/05/Budweiser-2025-Kesha-and-Scissor-Sisters.jpg
GEO:43.6292459;-79.4152393
X-APPLE-STRUCTURED-LOCATION;VALUE=URI;X-ADDRESS=Scène Budweiser 955 Lake Shore Blvd W Toronto Ontario M6K 3L3 Canada;X-APPLE-RADIUS=500;X-TITLE=955 Lake Shore Blvd W:geo:-79.4152393,43.6292459
END:VEVENT
BEGIN:VEVENT
DTSTART;TZID=America/Toronto:20250718T183000
DTEND;TZID=America/Toronto:20250718T230000
DTSTAMP:20260421T133306
CREATED:20250520T151622Z
LAST-MODIFIED:20250520T151622Z
UID:10005073-1752863400-1752879600@ontarioplace.com
SUMMARY:Wiz Khalifa & Sean Paul - Good Vibes Only Tour w/ Special Guest DaBaby
DESCRIPTION:
URL:https://ontarioplace.com/fr/event/wiz-khalifa-sean-paul-good-vibes-only-tour-w-special-guest-dababy/
LOCATION:Scène Budweiser\, 955 Lake Shore Blvd W\, Toronto\, Ontario\, M6K 3L3\, Canada
ATTACH;FMTTYPE=image/jpeg:https://ontarioplace.com/wp-content/uploads/2025/05/Budweiser-2025-Wiz-Khalifa-Sean-Paul.jpg
GEO:43.6292459;-79.4152393
X-APPLE-STRUCTURED-LOCATION;VALUE=URI;X-ADDRESS=Scène Budweiser 955 Lake Shore Blvd W Toronto Ontario M6K 3L3 Canada;X-APPLE-RADIUS=500;X-TITLE=955 Lake Shore Blvd W:geo:-79.4152393,43.6292459
END:VEVENT
BEGIN:VEVENT
DTSTART;TZID=America/Toronto:20250717T193000
DTEND;TZID=America/Toronto:20250717T230000
DTSTAMP:20260421T133306
CREATED:20250520T151622Z
LAST-MODIFIED:20250520T151622Z
UID:10005072-1752780600-1752793200@ontarioplace.com
SUMMARY:Thomas Rhett: Better In Boots Tour 2025
DESCRIPTION:
URL:https://ontarioplace.com/fr/event/thomas-rhett-better-in-boots-tour-2025/
LOCATION:Scène Budweiser\, 955 Lake Shore Blvd W\, Toronto\, Ontario\, M6K 3L3\, Canada
ATTACH;FMTTYPE=image/jpeg:https://ontarioplace.com/wp-content/uploads/2025/05/Thmas-Rhett.jpg
GEO:43.6292459;-79.4152393
X-APPLE-STRUCTURED-LOCATION;VALUE=URI;X-ADDRESS=Scène Budweiser 955 Lake Shore Blvd W Toronto Ontario M6K 3L3 Canada;X-APPLE-RADIUS=500;X-TITLE=955 Lake Shore Blvd W:geo:-79.4152393,43.6292459
END:VEVENT
BEGIN:VEVENT
DTSTART;TZID=America/Toronto:20250715T150000
DTEND;TZID=America/Toronto:20250715T230000
DTSTAMP:20260421T133306
CREATED:20250516T185847Z
LAST-MODIFIED:20250516T185847Z
UID:10005068-1752591600-1752620400@ontarioplace.com
SUMMARY:Summer of Loud: Parkway Drive\, Killswitch Engage\, I Prevail\, Beartooth
DESCRIPTION:
URL:https://ontarioplace.com/fr/event/summer-of-loud-parkway-drive-killswitch-engage-i-prevail-beartooth/
LOCATION:Scène Budweiser\, 955 Lake Shore Blvd W\, Toronto\, Ontario\, M6K 3L3\, Canada
ATTACH;FMTTYPE=image/jpeg:https://ontarioplace.com/wp-content/uploads/2025/05/Summer-of-Loud.jpg
GEO:43.6292459;-79.4152393
X-APPLE-STRUCTURED-LOCATION;VALUE=URI;X-ADDRESS=Scène Budweiser 955 Lake Shore Blvd W Toronto Ontario M6K 3L3 Canada;X-APPLE-RADIUS=500;X-TITLE=955 Lake Shore Blvd W:geo:-79.4152393,43.6292459
END:VEVENT
BEGIN:VEVENT
DTSTART;TZID=America/Toronto:20250712T190000
DTEND;TZID=America/Toronto:20250712T230000
DTSTAMP:20260421T133306
CREATED:20250516T185522Z
LAST-MODIFIED:20250516T185522Z
UID:10005069-1752346800-1752361200@ontarioplace.com
SUMMARY:Russ "Into The W!LD Tour" with Big Sean & Sabrina Claudio
DESCRIPTION:
URL:https://ontarioplace.com/fr/event/russ-into-the-wld-tour-with-big-sean-sabrina-claudio/
LOCATION:Scène Budweiser\, 955 Lake Shore Blvd W\, Toronto\, Ontario\, M6K 3L3\, Canada
ATTACH;FMTTYPE=image/jpeg:https://ontarioplace.com/wp-content/uploads/2025/05/Budweiser-2025-Russ.jpg
GEO:43.6292459;-79.4152393
X-APPLE-STRUCTURED-LOCATION;VALUE=URI;X-ADDRESS=Scène Budweiser 955 Lake Shore Blvd W Toronto Ontario M6K 3L3 Canada;X-APPLE-RADIUS=500;X-TITLE=955 Lake Shore Blvd W:geo:-79.4152393,43.6292459
END:VEVENT
BEGIN:VEVENT
DTSTART;TZID=America/Toronto:20250711T173000
DTEND;TZID=America/Toronto:20250711T230000
DTSTAMP:20260421T133306
CREATED:20250516T165926Z
LAST-MODIFIED:20250516T165926Z
UID:10005065-1752255000-1752274800@ontarioplace.com
SUMMARY:Fisher
DESCRIPTION:
URL:https://ontarioplace.com/fr/event/fisher/
LOCATION:Scène Budweiser\, 955 Lake Shore Blvd W\, Toronto\, Ontario\, M6K 3L3\, Canada
ATTACH;FMTTYPE=image/jpeg:https://ontarioplace.com/wp-content/uploads/2025/05/Fisher.jpg
GEO:43.6292459;-79.4152393
X-APPLE-STRUCTURED-LOCATION;VALUE=URI;X-ADDRESS=Scène Budweiser 955 Lake Shore Blvd W Toronto Ontario M6K 3L3 Canada;X-APPLE-RADIUS=500;X-TITLE=955 Lake Shore Blvd W:geo:-79.4152393,43.6292459
END:VEVENT
BEGIN:VEVENT
DTSTART;TZID=America/Toronto:20250710T190000
DTEND;TZID=America/Toronto:20250710T230000
DTSTAMP:20260421T133306
CREATED:20250516T153858Z
LAST-MODIFIED:20250516T153858Z
UID:10005063-1752174000-1752188400@ontarioplace.com
SUMMARY:Luke Bryan: Country Song Came On Tour
DESCRIPTION:
URL:https://ontarioplace.com/fr/event/luke-bryan-country-song-came-on-tour/
LOCATION:Scène Budweiser\, 955 Lake Shore Blvd W\, Toronto\, Ontario\, M6K 3L3\, Canada
ATTACH;FMTTYPE=image/jpeg:https://ontarioplace.com/wp-content/uploads/2025/05/Budweiser-2025-Luke-Bryan.jpg
GEO:43.6292459;-79.4152393
X-APPLE-STRUCTURED-LOCATION;VALUE=URI;X-ADDRESS=Scène Budweiser 955 Lake Shore Blvd W Toronto Ontario M6K 3L3 Canada;X-APPLE-RADIUS=500;X-TITLE=955 Lake Shore Blvd W:geo:-79.4152393,43.6292459
END:VEVENT
BEGIN:VEVENT
DTSTART;TZID=America/Toronto:20250709T200000
DTEND;TZID=America/Toronto:20250709T230000
DTSTAMP:20260421T133306
CREATED:20250516T152935Z
LAST-MODIFIED:20250516T152935Z
UID:10005061-1752091200-1752102000@ontarioplace.com
SUMMARY:"Weird Al" Yankovic: Bigger & Weirder 2025 Tour
DESCRIPTION:
URL:https://ontarioplace.com/fr/event/weird-al-yankovic-bigger-weirder-2025-tour/
LOCATION:Scène Budweiser\, 955 Lake Shore Blvd W\, Toronto\, Ontario\, M6K 3L3\, Canada
ATTACH;FMTTYPE=image/jpeg:https://ontarioplace.com/wp-content/uploads/2025/05/Budweiser-2025.jpg
GEO:43.6292459;-79.4152393
X-APPLE-STRUCTURED-LOCATION;VALUE=URI;X-ADDRESS=Scène Budweiser 955 Lake Shore Blvd W Toronto Ontario M6K 3L3 Canada;X-APPLE-RADIUS=500;X-TITLE=955 Lake Shore Blvd W:geo:-79.4152393,43.6292459
END:VEVENT
BEGIN:VEVENT
DTSTART;TZID=America/Toronto:20250708T193000
DTEND;TZID=America/Toronto:20250708T230000
DTSTAMP:20260421T133306
CREATED:20250516T145036Z
LAST-MODIFIED:20250516T145036Z
UID:10005058-1752003000-1752015600@ontarioplace.com
SUMMARY:Dave Matthews Band
DESCRIPTION:
URL:https://ontarioplace.com/fr/event/dave-matthews-band/
LOCATION:Scène Budweiser\, 955 Lake Shore Blvd W\, Toronto\, Ontario\, M6K 3L3\, Canada
ATTACH;FMTTYPE=image/jpeg:https://ontarioplace.com/wp-content/uploads/2025/05/Budweiser-2025-Dave-Matthews-Band.jpg
GEO:43.6292459;-79.4152393
X-APPLE-STRUCTURED-LOCATION;VALUE=URI;X-ADDRESS=Scène Budweiser 955 Lake Shore Blvd W Toronto Ontario M6K 3L3 Canada;X-APPLE-RADIUS=500;X-TITLE=955 Lake Shore Blvd W:geo:-79.4152393,43.6292459
END:VEVENT
BEGIN:VEVENT
DTSTART;TZID=America/Toronto:20250630T190000
DTEND;TZID=America/Toronto:20250630T230000
DTSTAMP:20260421T133306
CREATED:20250516T141048Z
LAST-MODIFIED:20250516T141048Z
UID:10005056-1751310000-1751324400@ontarioplace.com
SUMMARY:INCUBUS - Performing MORNING VIEW In Its Entirety + The Hits
DESCRIPTION:
URL:https://ontarioplace.com/fr/event/incubus-performing-morning-view-in-its-entirety-the-hits/
LOCATION:Scène Budweiser\, 955 Lake Shore Blvd W\, Toronto\, Ontario\, M6K 3L3\, Canada
ATTACH;FMTTYPE=image/jpeg:https://ontarioplace.com/wp-content/uploads/2025/05/Budweiser-2025-Incubus.jpg
GEO:43.6292459;-79.4152393
X-APPLE-STRUCTURED-LOCATION;VALUE=URI;X-ADDRESS=Scène Budweiser 955 Lake Shore Blvd W Toronto Ontario M6K 3L3 Canada;X-APPLE-RADIUS=500;X-TITLE=955 Lake Shore Blvd W:geo:-79.4152393,43.6292459
END:VEVENT
BEGIN:VEVENT
DTSTART;TZID=America/Toronto:20250627T193000
DTEND;TZID=America/Toronto:20250627T230000
DTSTAMP:20260421T133306
CREATED:20250516T140114Z
LAST-MODIFIED:20250516T140114Z
UID:10005052-1751052600-1751065200@ontarioplace.com
SUMMARY:James Taylor And His All-Star Band
DESCRIPTION:
URL:https://ontarioplace.com/fr/event/james-taylor-and-his-all-star-band/
LOCATION:Scène Budweiser\, 955 Lake Shore Blvd W\, Toronto\, Ontario\, M6K 3L3\, Canada
ATTACH;FMTTYPE=image/jpeg:https://ontarioplace.com/wp-content/uploads/2025/05/James-Taylor.jpg
GEO:43.6292459;-79.4152393
X-APPLE-STRUCTURED-LOCATION;VALUE=URI;X-ADDRESS=Scène Budweiser 955 Lake Shore Blvd W Toronto Ontario M6K 3L3 Canada;X-APPLE-RADIUS=500;X-TITLE=955 Lake Shore Blvd W:geo:-79.4152393,43.6292459
END:VEVENT
BEGIN:VEVENT
DTSTART;TZID=America/Toronto:20250626T190000
DTEND;TZID=America/Toronto:20250626T230000
DTSTAMP:20260421T133306
CREATED:20250516T140544Z
LAST-MODIFIED:20250516T140544Z
UID:10005054-1750964400-1750978800@ontarioplace.com
SUMMARY:Peach Pit & Briston Maroney: Long Hair\, Long Life Tour
DESCRIPTION:
URL:https://ontarioplace.com/fr/event/peach-pit-briston-maroney-long-hair-long-life-tour/
LOCATION:Scène Budweiser\, 955 Lake Shore Blvd W\, Toronto\, Ontario\, M6K 3L3\, Canada
ATTACH;FMTTYPE=image/jpeg:https://ontarioplace.com/wp-content/uploads/2025/05/Budweiser-2025-Peach-Pit-Briston-Maroney.jpg
GEO:43.6292459;-79.4152393
X-APPLE-STRUCTURED-LOCATION;VALUE=URI;X-ADDRESS=Scène Budweiser 955 Lake Shore Blvd W Toronto Ontario M6K 3L3 Canada;X-APPLE-RADIUS=500;X-TITLE=955 Lake Shore Blvd W:geo:-79.4152393,43.6292459
END:VEVENT
END:VCALENDAR