BEGIN:VCALENDAR
VERSION:2.0
PRODID:-//Ontario Place - ECPv6.15.17.1//NONSGML v1.0//EN
CALSCALE:GREGORIAN
METHOD:PUBLISH
X-ORIGINAL-URL:https://ontarioplace.com/fr/
X-WR-CALDESC:Évènements pour Ontario Place
REFRESH-INTERVAL;VALUE=DURATION:PT1H
X-Robots-Tag:noindex
X-PUBLISHED-TTL:PT1H
BEGIN:VTIMEZONE
TZID:America/Toronto
BEGIN:DAYLIGHT
TZOFFSETFROM:-0500
TZOFFSETTO:-0400
TZNAME:EDT
DTSTART:20240310T070000
END:DAYLIGHT
BEGIN:STANDARD
TZOFFSETFROM:-0400
TZOFFSETTO:-0500
TZNAME:EST
DTSTART:20241103T060000
END:STANDARD
BEGIN:DAYLIGHT
TZOFFSETFROM:-0500
TZOFFSETTO:-0400
TZNAME:EDT
DTSTART:20250309T070000
END:DAYLIGHT
BEGIN:STANDARD
TZOFFSETFROM:-0400
TZOFFSETTO:-0500
TZNAME:EST
DTSTART:20251102T060000
END:STANDARD
BEGIN:DAYLIGHT
TZOFFSETFROM:-0500
TZOFFSETTO:-0400
TZNAME:EDT
DTSTART:20260308T070000
END:DAYLIGHT
BEGIN:STANDARD
TZOFFSETFROM:-0400
TZOFFSETTO:-0500
TZNAME:EST
DTSTART:20261101T060000
END:STANDARD
END:VTIMEZONE
BEGIN:VEVENT
DTSTART;TZID=America/Toronto:20250710T190000
DTEND;TZID=America/Toronto:20250710T230000
DTSTAMP:20260421T165010
CREATED:20250516T153858Z
LAST-MODIFIED:20250516T153858Z
UID:10005063-1752174000-1752188400@ontarioplace.com
SUMMARY:Luke Bryan: Country Song Came On Tour
DESCRIPTION:
URL:https://ontarioplace.com/fr/event/luke-bryan-country-song-came-on-tour/
LOCATION:Scène Budweiser\, 955 Lake Shore Blvd W\, Toronto\, Ontario\, M6K 3L3\, Canada
ATTACH;FMTTYPE=image/jpeg:https://ontarioplace.com/wp-content/uploads/2025/05/Budweiser-2025-Luke-Bryan.jpg
GEO:43.6292459;-79.4152393
X-APPLE-STRUCTURED-LOCATION;VALUE=URI;X-ADDRESS=Scène Budweiser 955 Lake Shore Blvd W Toronto Ontario M6K 3L3 Canada;X-APPLE-RADIUS=500;X-TITLE=955 Lake Shore Blvd W:geo:-79.4152393,43.6292459
END:VEVENT
BEGIN:VEVENT
DTSTART;TZID=America/Toronto:20250709T200000
DTEND;TZID=America/Toronto:20250709T230000
DTSTAMP:20260421T165010
CREATED:20250516T152935Z
LAST-MODIFIED:20250516T152935Z
UID:10005061-1752091200-1752102000@ontarioplace.com
SUMMARY:"Weird Al" Yankovic: Bigger & Weirder 2025 Tour
DESCRIPTION:
URL:https://ontarioplace.com/fr/event/weird-al-yankovic-bigger-weirder-2025-tour/
LOCATION:Scène Budweiser\, 955 Lake Shore Blvd W\, Toronto\, Ontario\, M6K 3L3\, Canada
ATTACH;FMTTYPE=image/jpeg:https://ontarioplace.com/wp-content/uploads/2025/05/Budweiser-2025.jpg
GEO:43.6292459;-79.4152393
X-APPLE-STRUCTURED-LOCATION;VALUE=URI;X-ADDRESS=Scène Budweiser 955 Lake Shore Blvd W Toronto Ontario M6K 3L3 Canada;X-APPLE-RADIUS=500;X-TITLE=955 Lake Shore Blvd W:geo:-79.4152393,43.6292459
END:VEVENT
BEGIN:VEVENT
DTSTART;TZID=America/Toronto:20250708T193000
DTEND;TZID=America/Toronto:20250708T230000
DTSTAMP:20260421T165010
CREATED:20250516T145036Z
LAST-MODIFIED:20250516T145036Z
UID:10005058-1752003000-1752015600@ontarioplace.com
SUMMARY:Dave Matthews Band
DESCRIPTION:
URL:https://ontarioplace.com/fr/event/dave-matthews-band/
LOCATION:Scène Budweiser\, 955 Lake Shore Blvd W\, Toronto\, Ontario\, M6K 3L3\, Canada
ATTACH;FMTTYPE=image/jpeg:https://ontarioplace.com/wp-content/uploads/2025/05/Budweiser-2025-Dave-Matthews-Band.jpg
GEO:43.6292459;-79.4152393
X-APPLE-STRUCTURED-LOCATION;VALUE=URI;X-ADDRESS=Scène Budweiser 955 Lake Shore Blvd W Toronto Ontario M6K 3L3 Canada;X-APPLE-RADIUS=500;X-TITLE=955 Lake Shore Blvd W:geo:-79.4152393,43.6292459
END:VEVENT
BEGIN:VEVENT
DTSTART;TZID=America/Toronto:20250630T190000
DTEND;TZID=America/Toronto:20250630T230000
DTSTAMP:20260421T165010
CREATED:20250516T141048Z
LAST-MODIFIED:20250516T141048Z
UID:10005056-1751310000-1751324400@ontarioplace.com
SUMMARY:INCUBUS - Performing MORNING VIEW In Its Entirety + The Hits
DESCRIPTION:
URL:https://ontarioplace.com/fr/event/incubus-performing-morning-view-in-its-entirety-the-hits/
LOCATION:Scène Budweiser\, 955 Lake Shore Blvd W\, Toronto\, Ontario\, M6K 3L3\, Canada
ATTACH;FMTTYPE=image/jpeg:https://ontarioplace.com/wp-content/uploads/2025/05/Budweiser-2025-Incubus.jpg
GEO:43.6292459;-79.4152393
X-APPLE-STRUCTURED-LOCATION;VALUE=URI;X-ADDRESS=Scène Budweiser 955 Lake Shore Blvd W Toronto Ontario M6K 3L3 Canada;X-APPLE-RADIUS=500;X-TITLE=955 Lake Shore Blvd W:geo:-79.4152393,43.6292459
END:VEVENT
BEGIN:VEVENT
DTSTART;TZID=America/Toronto:20250627T193000
DTEND;TZID=America/Toronto:20250627T230000
DTSTAMP:20260421T165010
CREATED:20250516T140114Z
LAST-MODIFIED:20250516T140114Z
UID:10005052-1751052600-1751065200@ontarioplace.com
SUMMARY:James Taylor And His All-Star Band
DESCRIPTION:
URL:https://ontarioplace.com/fr/event/james-taylor-and-his-all-star-band/
LOCATION:Scène Budweiser\, 955 Lake Shore Blvd W\, Toronto\, Ontario\, M6K 3L3\, Canada
ATTACH;FMTTYPE=image/jpeg:https://ontarioplace.com/wp-content/uploads/2025/05/James-Taylor.jpg
GEO:43.6292459;-79.4152393
X-APPLE-STRUCTURED-LOCATION;VALUE=URI;X-ADDRESS=Scène Budweiser 955 Lake Shore Blvd W Toronto Ontario M6K 3L3 Canada;X-APPLE-RADIUS=500;X-TITLE=955 Lake Shore Blvd W:geo:-79.4152393,43.6292459
END:VEVENT
BEGIN:VEVENT
DTSTART;TZID=America/Toronto:20250626T190000
DTEND;TZID=America/Toronto:20250626T230000
DTSTAMP:20260421T165010
CREATED:20250516T140544Z
LAST-MODIFIED:20250516T140544Z
UID:10005054-1750964400-1750978800@ontarioplace.com
SUMMARY:Peach Pit & Briston Maroney: Long Hair\, Long Life Tour
DESCRIPTION:
URL:https://ontarioplace.com/fr/event/peach-pit-briston-maroney-long-hair-long-life-tour/
LOCATION:Scène Budweiser\, 955 Lake Shore Blvd W\, Toronto\, Ontario\, M6K 3L3\, Canada
ATTACH;FMTTYPE=image/jpeg:https://ontarioplace.com/wp-content/uploads/2025/05/Budweiser-2025-Peach-Pit-Briston-Maroney.jpg
GEO:43.6292459;-79.4152393
X-APPLE-STRUCTURED-LOCATION;VALUE=URI;X-ADDRESS=Scène Budweiser 955 Lake Shore Blvd W Toronto Ontario M6K 3L3 Canada;X-APPLE-RADIUS=500;X-TITLE=955 Lake Shore Blvd W:geo:-79.4152393,43.6292459
END:VEVENT
BEGIN:VEVENT
DTSTART;TZID=America/Toronto:20250624T193000
DTEND;TZID=America/Toronto:20250624T230000
DTSTAMP:20260421T165010
CREATED:20250516T134252Z
LAST-MODIFIED:20250516T134252Z
UID:10005050-1750793400-1750806000@ontarioplace.com
SUMMARY:Mumford & Sons - 2025 Tour
DESCRIPTION:
URL:https://ontarioplace.com/fr/event/mumford-sons-2025-tour/
LOCATION:Scène Budweiser\, 955 Lake Shore Blvd W\, Toronto\, Ontario\, M6K 3L3\, Canada
ATTACH;FMTTYPE=image/jpeg:https://ontarioplace.com/wp-content/uploads/2025/05/Mumfird-Sons.jpg
GEO:43.6292459;-79.4152393
X-APPLE-STRUCTURED-LOCATION;VALUE=URI;X-ADDRESS=Scène Budweiser 955 Lake Shore Blvd W Toronto Ontario M6K 3L3 Canada;X-APPLE-RADIUS=500;X-TITLE=955 Lake Shore Blvd W:geo:-79.4152393,43.6292459
END:VEVENT
BEGIN:VEVENT
DTSTART;TZID=America/Toronto:20250621T190000
DTEND;TZID=America/Toronto:20250621T230000
DTSTAMP:20260421T165010
CREATED:20250516T131954Z
LAST-MODIFIED:20250516T131954Z
UID:10005048-1750532400-1750546800@ontarioplace.com
SUMMARY:Keith Urban: High and Alive World Tour
DESCRIPTION:
URL:https://ontarioplace.com/fr/event/keith-urban-high-and-alive-world-tour/
LOCATION:Scène Budweiser\, 955 Lake Shore Blvd W\, Toronto\, Ontario\, M6K 3L3\, Canada
ATTACH;FMTTYPE=image/jpeg:https://ontarioplace.com/wp-content/uploads/2025/05/Keith-Urban.jpg
GEO:43.6292459;-79.4152393
X-APPLE-STRUCTURED-LOCATION;VALUE=URI;X-ADDRESS=Scène Budweiser 955 Lake Shore Blvd W Toronto Ontario M6K 3L3 Canada;X-APPLE-RADIUS=500;X-TITLE=955 Lake Shore Blvd W:geo:-79.4152393,43.6292459
END:VEVENT
BEGIN:VEVENT
DTSTART;TZID=America/Toronto:20250620T190000
DTEND;TZID=America/Toronto:20250620T230000
DTSTAMP:20260421T165010
CREATED:20250515T192233Z
LAST-MODIFIED:20250515T192233Z
UID:10005046-1750446000-1750460400@ontarioplace.com
SUMMARY:City and Colour - Celebrating 20 Years of Sometimes
DESCRIPTION:
URL:https://ontarioplace.com/fr/event/city-and-colour-celebrating-20-years-of-sometimes/
LOCATION:Scène Budweiser\, 955 Lake Shore Blvd W\, Toronto\, Ontario\, M6K 3L3\, Canada
ATTACH;FMTTYPE=image/jpeg:https://ontarioplace.com/wp-content/uploads/2025/05/Budweiser-2025-City-and-Colour.jpg
GEO:43.6292459;-79.4152393
X-APPLE-STRUCTURED-LOCATION;VALUE=URI;X-ADDRESS=Scène Budweiser 955 Lake Shore Blvd W Toronto Ontario M6K 3L3 Canada;X-APPLE-RADIUS=500;X-TITLE=955 Lake Shore Blvd W:geo:-79.4152393,43.6292459
END:VEVENT
BEGIN:VEVENT
DTSTART;TZID=America/Toronto:20250619T190000
DTEND;TZID=America/Toronto:20250619T230000
DTSTAMP:20260421T165010
CREATED:20250515T192155Z
LAST-MODIFIED:20250515T192155Z
UID:10005045-1750359600-1750374000@ontarioplace.com
SUMMARY:Three Days Grace & Volbeat
DESCRIPTION:
URL:https://ontarioplace.com/fr/event/three-days-grace-volbeat/
LOCATION:Scène Budweiser\, 955 Lake Shore Blvd W\, Toronto\, Ontario\, M6K 3L3\, Canada
ATTACH;FMTTYPE=image/jpeg:https://ontarioplace.com/wp-content/uploads/2025/05/Three-Days-of-Grace.jpg
GEO:43.6292459;-79.4152393
X-APPLE-STRUCTURED-LOCATION;VALUE=URI;X-ADDRESS=Scène Budweiser 955 Lake Shore Blvd W Toronto Ontario M6K 3L3 Canada;X-APPLE-RADIUS=500;X-TITLE=955 Lake Shore Blvd W:geo:-79.4152393,43.6292459
END:VEVENT
BEGIN:VEVENT
DTSTART;TZID=America/Toronto:20250618T190000
DTEND;TZID=America/Toronto:20250618T230000
DTSTAMP:20260421T165010
CREATED:20250515T191459Z
LAST-MODIFIED:20250515T191459Z
UID:10005042-1750273200-1750287600@ontarioplace.com
SUMMARY:Simple Minds: Alive & Kicking Tour 2025
DESCRIPTION:
URL:https://ontarioplace.com/fr/event/simple-minds-alive-kicking-tour-2025/
LOCATION:Scène Budweiser\, 955 Lake Shore Blvd W\, Toronto\, Ontario\, M6K 3L3\, Canada
ATTACH;FMTTYPE=image/jpeg:https://ontarioplace.com/wp-content/uploads/2025/05/Budweiser-2025-Simple-Minds.jpg
GEO:43.6292459;-79.4152393
X-APPLE-STRUCTURED-LOCATION;VALUE=URI;X-ADDRESS=Scène Budweiser 955 Lake Shore Blvd W Toronto Ontario M6K 3L3 Canada;X-APPLE-RADIUS=500;X-TITLE=955 Lake Shore Blvd W:geo:-79.4152393,43.6292459
END:VEVENT
BEGIN:VEVENT
DTSTART;TZID=America/Toronto:20250617T200000
DTEND;TZID=America/Toronto:20250617T230000
DTSTAMP:20260421T165010
CREATED:20250515T191430Z
LAST-MODIFIED:20250515T191430Z
UID:10005041-1750190400-1750201200@ontarioplace.com
SUMMARY:HAUSER - The Rebel Is Back
DESCRIPTION:
URL:https://ontarioplace.com/fr/event/hauser-the-rebel-is-back/
LOCATION:Scène Budweiser\, 955 Lake Shore Blvd W\, Toronto\, Ontario\, M6K 3L3\, Canada
ATTACH;FMTTYPE=image/jpeg:https://ontarioplace.com/wp-content/uploads/2025/05/Hauser.jpg
GEO:43.6292459;-79.4152393
X-APPLE-STRUCTURED-LOCATION;VALUE=URI;X-ADDRESS=Scène Budweiser 955 Lake Shore Blvd W Toronto Ontario M6K 3L3 Canada;X-APPLE-RADIUS=500;X-TITLE=955 Lake Shore Blvd W:geo:-79.4152393,43.6292459
END:VEVENT
BEGIN:VEVENT
DTSTART;TZID=America/Toronto:20250614T190000
DTEND;TZID=America/Toronto:20250614T230000
DTSTAMP:20260421T165010
CREATED:20250515T190645Z
LAST-MODIFIED:20250515T190645Z
UID:10005038-1749927600-1749942000@ontarioplace.com
SUMMARY:Kes
DESCRIPTION:
URL:https://ontarioplace.com/fr/event/kes/
LOCATION:Scène Budweiser\, 955 Lake Shore Blvd W\, Toronto\, Ontario\, M6K 3L3\, Canada
ATTACH;FMTTYPE=image/jpeg:https://ontarioplace.com/wp-content/uploads/2025/05/Budweiser-2025-Kes.jpg
GEO:43.6292459;-79.4152393
X-APPLE-STRUCTURED-LOCATION;VALUE=URI;X-ADDRESS=Scène Budweiser 955 Lake Shore Blvd W Toronto Ontario M6K 3L3 Canada;X-APPLE-RADIUS=500;X-TITLE=955 Lake Shore Blvd W:geo:-79.4152393,43.6292459
END:VEVENT
BEGIN:VEVENT
DTSTART;TZID=America/Toronto:20250612T190000
DTEND;TZID=America/Toronto:20250612T230000
DTSTAMP:20260421T165010
CREATED:20250515T190515Z
LAST-MODIFIED:20250515T190515Z
UID:10005037-1749754800-1749769200@ontarioplace.com
SUMMARY:Dierks Bentley: Broken Branches Tour
DESCRIPTION:
URL:https://ontarioplace.com/fr/event/dierks-bentley-broken-branches-tour/
LOCATION:Scène Budweiser\, 955 Lake Shore Blvd W\, Toronto\, Ontario\, M6K 3L3\, Canada
ATTACH;FMTTYPE=image/jpeg:https://ontarioplace.com/wp-content/uploads/2025/05/Dierks-Bentley.jpg
GEO:43.6292459;-79.4152393
X-APPLE-STRUCTURED-LOCATION;VALUE=URI;X-ADDRESS=Scène Budweiser 955 Lake Shore Blvd W Toronto Ontario M6K 3L3 Canada;X-APPLE-RADIUS=500;X-TITLE=955 Lake Shore Blvd W:geo:-79.4152393,43.6292459
END:VEVENT
BEGIN:VEVENT
DTSTART;TZID=America/Toronto:20250610T190000
DTEND;TZID=America/Toronto:20250610T230000
DTSTAMP:20260421T165010
CREATED:20250515T185126Z
LAST-MODIFIED:20250515T185126Z
UID:10005034-1749582000-1749596400@ontarioplace.com
SUMMARY:Halsey: For My Last Trick
DESCRIPTION:
URL:https://ontarioplace.com/fr/event/halsey-for-my-last-trick/
LOCATION:Scène Budweiser\, 955 Lake Shore Blvd W\, Toronto\, Ontario\, M6K 3L3\, Canada
ATTACH;FMTTYPE=image/jpeg:https://ontarioplace.com/wp-content/uploads/2025/05/Halsey.jpg
GEO:43.6292459;-79.4152393
X-APPLE-STRUCTURED-LOCATION;VALUE=URI;X-ADDRESS=Scène Budweiser 955 Lake Shore Blvd W Toronto Ontario M6K 3L3 Canada;X-APPLE-RADIUS=500;X-TITLE=955 Lake Shore Blvd W:geo:-79.4152393,43.6292459
END:VEVENT
BEGIN:VEVENT
DTSTART;TZID=America/Toronto:20250606T190000
DTEND;TZID=America/Toronto:20250606T230000
DTSTAMP:20260421T165010
CREATED:20250515T184926Z
LAST-MODIFIED:20250515T185337Z
UID:10005033-1749236400-1749250800@ontarioplace.com
SUMMARY:Metric playing Fantasies and Greatest Hits
DESCRIPTION:
URL:https://ontarioplace.com/fr/event/metric-playing-fantasies-and-greatest-hits/
LOCATION:Scène Budweiser\, 955 Lake Shore Blvd W\, Toronto\, Ontario\, M6K 3L3\, Canada
ATTACH;FMTTYPE=image/jpeg:https://ontarioplace.com/wp-content/uploads/2025/05/Budweiser-2025-Metric.jpg
GEO:43.6292459;-79.4152393
X-APPLE-STRUCTURED-LOCATION;VALUE=URI;X-ADDRESS=Scène Budweiser 955 Lake Shore Blvd W Toronto Ontario M6K 3L3 Canada;X-APPLE-RADIUS=500;X-TITLE=955 Lake Shore Blvd W:geo:-79.4152393,43.6292459
END:VEVENT
BEGIN:VEVENT
DTSTART;TZID=America/Toronto:20250605T200000
DTEND;TZID=America/Toronto:20250605T230000
DTSTAMP:20260421T165010
CREATED:20250515T183038Z
LAST-MODIFIED:20250515T183038Z
UID:10005026-1749153600-1749164400@ontarioplace.com
SUMMARY:Justice: Live
DESCRIPTION:
URL:https://ontarioplace.com/fr/event/justice-live/
LOCATION:Scène Budweiser\, 955 Lake Shore Blvd W\, Toronto\, Ontario\, M6K 3L3\, Canada
ATTACH;FMTTYPE=image/jpeg:https://ontarioplace.com/wp-content/uploads/2025/05/Budweiser-2025-Justice.jpg
GEO:43.6292459;-79.4152393
X-APPLE-STRUCTURED-LOCATION;VALUE=URI;X-ADDRESS=Scène Budweiser 955 Lake Shore Blvd W Toronto Ontario M6K 3L3 Canada;X-APPLE-RADIUS=500;X-TITLE=955 Lake Shore Blvd W:geo:-79.4152393,43.6292459
END:VEVENT
BEGIN:VEVENT
DTSTART;TZID=America/Toronto:20250604T200000
DTEND;TZID=America/Toronto:20250604T230000
DTSTAMP:20260421T165010
CREATED:20250515T182508Z
LAST-MODIFIED:20250515T182508Z
UID:10005025-1749067200-1749078000@ontarioplace.com
SUMMARY:ONE OK ROCK DETOX NORTH AMERICAN TOUR 2025
DESCRIPTION:
URL:https://ontarioplace.com/fr/event/one-ok-rock-detox-north-american-tour-2025/
LOCATION:Scène Budweiser\, 955 Lake Shore Blvd W\, Toronto\, Ontario\, M6K 3L3\, Canada
ATTACH;FMTTYPE=image/jpeg:https://ontarioplace.com/wp-content/uploads/2025/05/One-Ok-Rock-Detox-2025-budweiser-1.jpg
GEO:43.6292459;-79.4152393
X-APPLE-STRUCTURED-LOCATION;VALUE=URI;X-ADDRESS=Scène Budweiser 955 Lake Shore Blvd W Toronto Ontario M6K 3L3 Canada;X-APPLE-RADIUS=500;X-TITLE=955 Lake Shore Blvd W:geo:-79.4152393,43.6292459
END:VEVENT
BEGIN:VEVENT
DTSTART;TZID=America/Toronto:20250528T190000
DTEND;TZID=America/Toronto:20250528T230000
DTSTAMP:20260421T165010
CREATED:20250515T183800Z
LAST-MODIFIED:20250515T183800Z
UID:10005030-1748458800-1748473200@ontarioplace.com
SUMMARY:Pierce The Veil - I Can't Hear You World Tour
DESCRIPTION:
URL:https://ontarioplace.com/fr/event/pierce-the-veil-i-cant-hear-you-world-tour/
LOCATION:Scène Budweiser\, 955 Lake Shore Blvd W\, Toronto\, Ontario\, M6K 3L3\, Canada
ATTACH;FMTTYPE=image/jpeg:https://ontarioplace.com/wp-content/uploads/2025/05/Pierce-The-Veil.jpg
GEO:43.6292459;-79.4152393
X-APPLE-STRUCTURED-LOCATION;VALUE=URI;X-ADDRESS=Scène Budweiser 955 Lake Shore Blvd W Toronto Ontario M6K 3L3 Canada;X-APPLE-RADIUS=500;X-TITLE=955 Lake Shore Blvd W:geo:-79.4152393,43.6292459
END:VEVENT
BEGIN:VEVENT
DTSTART;TZID=America/Toronto:20250524T193000
DTEND;TZID=America/Toronto:20250524T230000
DTSTAMP:20260421T165010
CREATED:20250515T182249Z
LAST-MODIFIED:20250515T182616Z
UID:10005024-1748115000-1748127600@ontarioplace.com
SUMMARY:Jason Aldean: Full Throttle Tour 2025
DESCRIPTION:
URL:https://ontarioplace.com/fr/event/jason-aldean-full-throttle-tour-2025/
LOCATION:Scène Budweiser\, 955 Lake Shore Blvd W\, Toronto\, Ontario\, M6K 3L3\, Canada
ATTACH;FMTTYPE=image/jpeg:https://ontarioplace.com/wp-content/uploads/2025/05/Jason-Aldean.jpg
GEO:43.6292459;-79.4152393
X-APPLE-STRUCTURED-LOCATION;VALUE=URI;X-ADDRESS=Scène Budweiser 955 Lake Shore Blvd W Toronto Ontario M6K 3L3 Canada;X-APPLE-RADIUS=500;X-TITLE=955 Lake Shore Blvd W:geo:-79.4152393,43.6292459
END:VEVENT
BEGIN:VEVENT
DTSTART;TZID=America/Toronto:20250523T193000
DTEND;TZID=America/Toronto:20250523T230000
DTSTAMP:20260421T165010
CREATED:20250515T151612Z
LAST-MODIFIED:20250515T151801Z
UID:10005021-1748028600-1748041200@ontarioplace.com
SUMMARY:Billy Idol: It's A Nice Day To...Tour Again!
DESCRIPTION:
URL:https://ontarioplace.com/fr/event/billy-idol-its-a-nice-day-to-tour-again/
LOCATION:Scène Budweiser\, 955 Lake Shore Blvd W\, Toronto\, Ontario\, M6K 3L3\, Canada
ATTACH;FMTTYPE=image/jpeg:https://ontarioplace.com/wp-content/uploads/2025/05/BillyIdol.jpg
GEO:43.6292459;-79.4152393
X-APPLE-STRUCTURED-LOCATION;VALUE=URI;X-ADDRESS=Scène Budweiser 955 Lake Shore Blvd W Toronto Ontario M6K 3L3 Canada;X-APPLE-RADIUS=500;X-TITLE=955 Lake Shore Blvd W:geo:-79.4152393,43.6292459
END:VEVENT
BEGIN:VEVENT
DTSTART;TZID=America/Toronto:20250522T200000
DTEND;TZID=America/Toronto:20250522T230000
DTSTAMP:20260421T165010
CREATED:20250521T175902Z
LAST-MODIFIED:20250521T175902Z
UID:10005148-1747944000-1747954800@ontarioplace.com
SUMMARY:Sessanta V 2.0: Primus\, Puscifer\, A Perfect Circle
DESCRIPTION:
URL:https://ontarioplace.com/fr/event/sessanta-v-2-0-primus-puscifer-a-perfect-circle/
LOCATION:Scène Budweiser\, 955 Lake Shore Blvd W\, Toronto\, Ontario\, M6K 3L3\, Canada
ATTACH;FMTTYPE=image/jpeg:https://ontarioplace.com/wp-content/uploads/2025/04/Primus.jpg
GEO:43.6292459;-79.4152393
X-APPLE-STRUCTURED-LOCATION;VALUE=URI;X-ADDRESS=Scène Budweiser 955 Lake Shore Blvd W Toronto Ontario M6K 3L3 Canada;X-APPLE-RADIUS=500;X-TITLE=955 Lake Shore Blvd W:geo:-79.4152393,43.6292459
END:VEVENT
END:VCALENDAR